BEGIN:VCALENDAR
VERSION:2.0
PRODID:-//Devpost\, Inc.//Hack the Drone - MATLAB Hackathon//EN
CALSCALE:GREGORIAN
BEGIN:VTIMEZONE
TZID:Europe/Rome
BEGIN:DAYLIGHT
DTSTART:20260329T030000
TZOFFSETFROM:+0100
TZOFFSETTO:+0200
RRULE:FREQ=YEARLY;BYDAY=-1SU;BYMONTH=3
TZNAME:CEST
END:DAYLIGHT
BEGIN:STANDARD
DTSTART:20261025T020000
TZOFFSETFROM:+0200
TZOFFSETTO:+0100
RRULE:FREQ=YEARLY;BYDAY=-1SU;BYMONTH=10
TZNAME:CET
END:STANDARD
END:VTIMEZONE
BEGIN:VEVENT
DTSTAMP:20260420T205837Z
UID:9bdd2c00-d704-4493-bcf5-4eb2bc8785ef
DTSTART;TZID=Europe/Rome:20260529T130000
DTEND;TZID=Europe/Rome:20260529T174500
DESCRIPTION:https://matlab-hack-the-drone.devpost.com/
LOCATION:Piazza Leonardo da Vinci\, 32\, 20133 Milano MI\, Italy
SUMMARY:Hack the Drone - MATLAB Hackathon
BEGIN:VALARM
ACTION:DISPLAY
TRIGGER:-P3D
SUMMARY:Get ready\, the hacking starts in 3 days.
END:VALARM
END:VEVENT
END:VCALENDAR
